BEGIN:VCALENDAR
VERSION:2.0
PRODID:-//Gupton-Jones College of Funeral Service - ECPv6.15.20//NONSGML v1.0//EN
CALSCALE:GREGORIAN
METHOD:PUBLISH
X-WR-CALNAME:Gupton-Jones College of Funeral Service
X-ORIGINAL-URL:https://gupton-jones.edu
X-WR-CALDESC:Events for Gupton-Jones College of Funeral Service
REFRESH-INTERVAL;VALUE=DURATION:PT1H
X-Robots-Tag:noindex
X-PUBLISHED-TTL:PT1H
BEGIN:VTIMEZONE
TZID:America/Chicago
BEGIN:DAYLIGHT
TZOFFSETFROM:-0600
TZOFFSETTO:-0500
TZNAME:CDT
DTSTART:20250309T080000
END:DAYLIGHT
BEGIN:STANDARD
TZOFFSETFROM:-0500
TZOFFSETTO:-0600
TZNAME:CST
DTSTART:20251102T070000
END:STANDARD
BEGIN:DAYLIGHT
TZOFFSETFROM:-0600
TZOFFSETTO:-0500
TZNAME:CDT
DTSTART:20260308T080000
END:DAYLIGHT
BEGIN:STANDARD
TZOFFSETFROM:-0500
TZOFFSETTO:-0600
TZNAME:CST
DTSTART:20261101T070000
END:STANDARD
BEGIN:DAYLIGHT
TZOFFSETFROM:-0600
TZOFFSETTO:-0500
TZNAME:CDT
DTSTART:20270314T080000
END:DAYLIGHT
BEGIN:STANDARD
TZOFFSETFROM:-0500
TZOFFSETTO:-0600
TZNAME:CST
DTSTART:20271107T070000
END:STANDARD
END:VTIMEZONE
BEGIN:VEVENT
DTSTART;VALUE=DATE:20260622
DTEND;VALUE=DATE:20260705
DTSTAMP:20260421T165241
CREATED:20250501T204053Z
LAST-MODIFIED:20250822T192857Z
UID:10000509-1782090000-1783126799@gupton-jones.edu
SUMMARY:Quarter Break - No Classes
DESCRIPTION:
URL:https://gupton-jones.edu/event/quarter-break-no-classes-7/
CATEGORIES:Academic Calendar
END:VEVENT
BEGIN:VEVENT
DTSTART;VALUE=DATE:20260701
DTEND;VALUE=DATE:20260703
DTSTAMP:20260421T165241
CREATED:20250501T204117Z
LAST-MODIFIED:20250822T192857Z
UID:10000510-1782867600-1782953999@gupton-jones.edu
SUMMARY:Orientation for New Summer Quarter Students
DESCRIPTION:
URL:https://gupton-jones.edu/event/orientation-for-new-summer-quarter-students-2/
CATEGORIES:Academic Calendar
END:VEVENT
END:VCALENDAR